BEGIN:VCALENDAR
VERSION:2.0
PRODID:-//Tatsfield Parish Council//Meeting Calendar//EN
CALSCALE:GREGORIAN
METHOD:PUBLISH
BEGIN:VEVENT
UID:70491-20250310@tatsfield-pc.gov.uk
DTSTAMP:20260425T032145Z
DTSTART;VALUE=DATE:20250310
DTEND;VALUE=DATE:20250311
SUMMARY:Council Meeting &#8211\\; 10 March 2025
DESCRIPTION:Full Council Meeting\nView details: https://tatsfield-pc.gov.uk/meetings/council-meeting-10-march-2025/
URL:https://tatsfield-pc.gov.uk/meetings/council-meeting-10-march-2025/
END:VEVENT
END:VCALENDAR
